BEGIN:VCALENDAR
VERSION:2.0
METHOD:PUBLISH
PRODID:-//hacksw/handcal//NONSGML v1.0//EN
BEGIN:VEVENT
DTSTAMP:20260420T040412Z
DTSTART:20250721T163000Z
DTEND:20250721T180000Z
UID:20250721T163000Z-20250721T180000Z-243@wordpress.fsmc-sande.de
SUMMARY:Lehrer-Schüler-Fliegen
DESCRIPTION:
X-ALT-DESC;FMTTYPE=text/html:
URL:http://wordpress.fsmc-sande.de/events/lehrer-schueler-fliegen-33/?
 lang=de
ATTACH:http://wordpress.fsmc-sande.de/events/lehrer-schueler-fliegen-3
 3/?lang=de
LOCATION:Vereinsgelände\, Modellsportverein Friedeburg - Sande e.V.\, 
 Marx / Barge
END:VEVENT
END:VCALENDAR
