BEGIN:VCALENDAR
VERSION:2.0
METHOD:PUBLISH
PRODID:-//hacksw/handcal//NONSGML v1.0//EN
BEGIN:VEVENT
DTSTAMP:20260420T231042Z
DTSTART:20230703T160000Z
DTEND:20230703T180000Z
UID:20230703T160000Z-20230703T180000Z-149@wordpress.fsmc-sande.de
SUMMARY:Lehrer-Schüler-Fliegen
DESCRIPTION:Ansprechpartner Christian Kuhlmann flieger@fsmc-sande.de
X-ALT-DESC;FMTTYPE=text/html:<p>Ansprechpartner Christian Kuhlmann <a 
 href=mailto:email@email.de>flieger@fsmc-sande.de</a></p>\n
URL:http://wordpress.fsmc-sande.de/events/lehrer-schueler-fliegen-9/?l
 ang=de
ATTACH:http://wordpress.fsmc-sande.de/events/lehrer-schueler-fliegen-9
 /?lang=de
ATTACH:http://wordpress.fsmc-sande.de/wp-content/uploads/2021/06/lehre
 r_schueler-150x150.jpg
LOCATION:Vereinsgelände\, Modellsportverein Friedeburg - Sande e.V.\, 
 Marx / Barge
END:VEVENT
END:VCALENDAR
